BEGIN:VCALENDAR
VERSION:2.0
CALSCALE:GREGORIAN
PRODID:adamgibbons/ics
METHOD:PUBLISH
X-PUBLISHED-TTL:PT1H
BEGIN:VEVENT
UID:5816@lapunta.org
SUMMARY:𝐂𝐮𝐛𝐨 𝐧𝐞𝐫𝐨 𝐢𝐧 𝐭𝐨𝐮𝐫- Giovedì 29 alle 18.00 in via Via Pietrapiana\,
DTSTAMP:20260421T082152Z
DTSTART:20260129T170000Z
DTEND:20260129T190000Z
DESCRIPTION:𝐎𝐫𝐚 𝐁𝐚𝐬𝐭𝐚. 𝐅𝐄𝐑𝐌𝐈𝐀𝐌𝐎 𝐥𝐚 𝐯𝐚𝐥𝐚𝐧𝐠𝐚 𝐝𝐢\n𝐬𝐭𝐮𝐝𝐞𝐧𝐭𝐚𝐭𝐢 𝐩𝐫𝐢𝐯𝐚𝐭𝐢 𝐞 𝐟𝐢𝐧𝐭𝐢 𝐬
	𝐭𝐮𝐝𝐞𝐧𝐭𝐚𝐭𝐢 𝐜𝐡𝐞\n𝐮𝐜𝐜𝐢𝐝𝐞 𝐅𝐢𝐫𝐞𝐧𝐳𝐞\n𝐂𝐮𝐛𝐨 𝐧𝐞𝐫𝐨 𝐢𝐧 𝐭𝐨𝐮𝐫- Giovedì 29 alle 18.00 in
	 via Via Pietrapiana\,\nall'𝐞𝐱 𝐏𝐨𝐬𝐭𝐞 𝐨𝐫𝐚 𝐒𝐭𝐮𝐝𝐞𝐧𝐭𝐚𝐭𝐨 𝐩𝐞𝐫 𝐑𝐢𝐜𝐜𝐡𝐢.\nHa aperto
	 l'ennesimo studentato di lusso.\nPrimi clienti abbienti studenti universi
	tà USA.\nSi tratta ennesimo studentato privato per Ricchi in una struttura
	 pubblica.\nQuesto NON è ACCETTABILE\n𝐅𝐄𝐑𝐌𝐈𝐀𝐌𝐎 𝐥𝐚 𝐯𝐚𝐥𝐚𝐧𝐠𝐚 𝐝𝐢 𝐬𝐭𝐮𝐝𝐞𝐧𝐭𝐚𝐭𝐢 𝐩𝐫
	𝐢𝐯𝐚𝐭𝐢 𝐞\n𝐟𝐢𝐧𝐭𝐢 𝐬𝐭𝐮𝐝𝐞𝐧𝐭𝐚𝐭𝐢 𝐜𝐡𝐞 𝐮𝐜𝐜𝐢𝐝𝐞 𝐅𝐢𝐫𝐞𝐧𝐳𝐞\n\n#studentatiprivati\n[https
	://www.facebook.com/hashtag/studentatiprivati?__eep__=6&__tn__=*NK*F]\n#va
	langastudentati\n[https://www.facebook.com/hashtag/valangastudentati?__eep
	__=6&__tn__=*NK*F]\n#incubospeculazione\n[https://www.facebook.com/hashtag
	/incubospeculazione?__eep__=6&__tn__=*NK*F]\n#speculazione\n[https://www.f
	acebook.com/hashtag/speculazione?__eep__=6&__tn__=*NK*F]\n#studentati [htt
	ps://www.facebook.com/hashtag/studentati?__eep__=6&__tn__=*NK*F]\n#vendita
	 [https://www.facebook.com/hashtag/vendita?__eep__=6&__tn__=*NK*F]\n#presa
	ingiro\n[https://www.facebook.com/hashtag/presaingiro?__eep__=6&__tn__=*NK
	*F]\n#alberghicamuffati\n[https://www.facebook.com/hashtag/alberghicamuffa
	ti?__eep__=6&__tn__=*NK*F]\n\nMostra meno
URL:https://lapunta.org/event/-giovedi-29-alle-1800-in-via-via-pietrapiana
LOCATION:ex poste via pietrapiana - via pietrapiana
STATUS:CONFIRMED
CATEGORIES:
X-ALT-DESC;FMTTYPE=text/html:<p>𝐎𝐫𝐚 𝐁𝐚𝐬𝐭𝐚. 𝐅𝐄𝐑𝐌𝐈𝐀𝐌𝐎 𝐥𝐚 𝐯𝐚𝐥𝐚𝐧𝐠𝐚 𝐝𝐢 𝐬𝐭𝐮𝐝𝐞𝐧𝐭𝐚𝐭
	𝐢 𝐩𝐫𝐢𝐯𝐚𝐭𝐢 𝐞 𝐟𝐢𝐧𝐭𝐢 𝐬𝐭𝐮𝐝𝐞𝐧𝐭𝐚𝐭𝐢 𝐜𝐡𝐞 𝐮𝐜𝐜𝐢𝐝𝐞 𝐅𝐢𝐫𝐞𝐧𝐳𝐞<br>𝐂𝐮𝐛𝐨 𝐧𝐞𝐫𝐨 𝐢𝐧 𝐭𝐨𝐮𝐫- Giov
	edì 29 alle 18.00 in via Via Pietrapiana,<br>all'𝐞𝐱 𝐏𝐨𝐬𝐭𝐞 𝐨𝐫𝐚 𝐒𝐭𝐮𝐝𝐞𝐧𝐭𝐚𝐭𝐨 𝐩
	𝐞𝐫 𝐑𝐢𝐜𝐜𝐡𝐢.<br>Ha aperto l'ennesimo studentato di lusso.<br>Primi clienti a
	bbienti studenti università USA.<br>Si tratta ennesimo studentato privato 
	per Ricchi in una struttura pubblica. Questo NON è ACCETTABILE<br> 𝐅𝐄𝐑𝐌𝐈𝐀𝐌
	𝐎 𝐥𝐚 𝐯𝐚𝐥𝐚𝐧𝐠𝐚 𝐝𝐢 𝐬𝐭𝐮𝐝𝐞𝐧𝐭𝐚𝐭𝐢 𝐩𝐫𝐢𝐯𝐚𝐭𝐢 𝐞 𝐟𝐢𝐧𝐭𝐢 𝐬𝐭𝐮𝐝𝐞𝐧𝐭𝐚𝐭𝐢 𝐜𝐡𝐞 𝐮𝐜𝐜𝐢𝐝𝐞 𝐅𝐢𝐫𝐞𝐧𝐳𝐞<b
	r><br><a target="_blank" href="https://www.facebook.com/hashtag/studentati
	privati?__eep__=6&amp;__tn__=*NK*F"><strong>#studentatiprivati</strong></a
	> <a target="_blank" href="https://www.facebook.com/hashtag/valangastudent
	ati?__eep__=6&amp;__tn__=*NK*F"><strong>#valangastudentati</strong></a> <a
	 target="_blank" href="https://www.facebook.com/hashtag/incubospeculazione
	?__eep__=6&amp;__tn__=*NK*F"><strong>#incubospeculazione</strong></a> <a t
	arget="_blank" href="https://www.facebook.com/hashtag/speculazione?__eep__
	=6&amp;__tn__=*NK*F"><strong>#speculazione</strong></a> <a target="_blank"
	 href="https://www.facebook.com/hashtag/studentati?__eep__=6&amp;__tn__=*N
	K*F"><strong>#studentati</strong></a> <a target="_blank" href="https://www
	.facebook.com/hashtag/vendita?__eep__=6&amp;__tn__=*NK*F"><strong>#vendita
	</strong></a> <a target="_blank" href="https://www.facebook.com/hashtag/pr
	esaingiro?__eep__=6&amp;__tn__=*NK*F"><strong>#presaingiro</strong></a> <a
	 target="_blank" href="https://www.facebook.com/hashtag/alberghicamuffati?
	__eep__=6&amp;__tn__=*NK*F"><strong>#alberghicamuffati</strong></a> </p><p
	><strong>Mostra meno</strong></p>
END:VEVENT
BEGIN:VEVENT
UID:4407@lapunta.org
SUMMARY:Salviamo Firenze ! presidio in  via Pietrapiana.
DTSTAMP:20260421T082152Z
DTSTART:20241210T170000Z
DTEND:20241210T190000Z
DESCRIPTION:MARTEDì 10 ALLE 18.00 presidio alla Speculazione di via Pietrap
	iana.\n\nNon prendete impegni.\n\nSpargiamo la voce.\n\nRompiamo il silenz
	io.
URL:https://lapunta.org/event/salviamo-firenze-presidio-in-via-pietrapiana
LOCATION:ex poste via pietrapiana - via pietrapiana
STATUS:CONFIRMED
CATEGORIES:
X-ALT-DESC;FMTTYPE=text/html:<p>MARTEDì 10 ALLE 18.00 presidio alla Specula
	zione di via Pietrapiana.</p><p>Non prendete impegni.</p><p>Spargiamo la v
	oce.</p><p>Rompiamo il silenzio.</p>
END:VEVENT
END:VCALENDAR
